BEGIN:VCALENDAR
VERSION:2.0
PRODID:icalendar-ruby
CALSCALE:GREGORIAN
METHOD:PUBLISH
BEGIN:VEVENT
DTSTAMP:20260423T115705Z
UID:29-725236@plcmorris.org
DTSTART:20261022T150000Z
DTEND:20261022T160000Z
CLASS:PUBLIC
CREATED:20260423T055611
DESCRIPTION:Senior Yoga Classes every Tuesday &amp\; Thursday at 10:00 am a
 t Peace Lutheran Church.
LAST-MODIFIED:20260423T055611
LOCATION:Peace Lutheran Church
SUMMARY:Senior Yoga - Thursday
URL;VALUE=URI:https://www.plcmorris.org/events/senior-yoga-thursday/2026-10
 -22
ATTACH;FILENAME=Yoga.jpg;FMTTYPE=image/jpeg:https://dq5pwpg1q8ru0.cloudfron
 t.net/2022/03/31/09/28/42/31217a35-f84f-4406-8294-84b214d48365/Yoga.jpg
END:VEVENT
END:VCALENDAR
